BEGIN:VCALENDAR
VERSION:2.0
PRODID:spatie/icalendar-generator
DESCRIPTION:Veranstaltungen von Kultur Vor Ort
X-WR-CALDESC:Veranstaltungen von Kultur Vor Ort
REFRESH-INTERVAL;VALUE=DURATION:PT1440M
X-PUBLISHED-TTL:PT1440M
BEGIN:VTIMEZONE
TZID:Europe/Berlin
BEGIN:STANDARD
DTSTART:20251026T030000Z
TZOFFSETFROM:+0200
TZOFFSETTO:+0100
END:STANDARD
BEGIN:DAYLIGHT
DTSTART:20260329T020000Z
TZOFFSETFROM:+0100
TZOFFSETTO:+0200
END:DAYLIGHT
BEGIN:STANDARD
DTSTART:20261025T030000Z
TZOFFSETFROM:+0200
TZOFFSETTO:+0100
END:STANDARD
END:VTIMEZONE
BEGIN:VTIMEZONE
TZID:UTC
BEGIN:STANDARD
DTSTART:20250724T233634Z
TZOFFSETFROM:+0000
TZOFFSETTO:+0000
END:STANDARD
END:VTIMEZONE
BEGIN:VEVENT
UID:6766-533
DTSTAMP:20260420T233634Z
SUMMARY:Bettina Bexte: Halime – In allem ein Stück zu Hause
LOCATION:QBZ Morgenland Morgenlandstraße 43  Bremen Bremen 28237
ORGANIZER;CN=Admin:MAILTO:technik@raum-atelier.de
RRULE:FREQ=DAILY;BYDAY=MO,TU,WE,TH,FR;UNTIL=20260516T000000Z
DTSTART;TZID=Europe/Berlin:20260430T090000
DTEND;TZID=Europe/Berlin:20260430T160000
X-ALT-DESC;FMTTYPE=TEXT/HTML:Am Freitag\, den 17. April 2026 findet die Ver
 nissage der Graphik Novel-Ausstellung „Halime – In allem ein Stück zu
  Hause“ von Bettina Bexte um 18 Uhr im QBZ Morgenland statt. Die Bremer 
 Künstlerin hat den Lebensweg von Halime Cengiz aufgezeichnet. Diese wurde
  in der Türkei geboren und kam im Alter von zwei Jahren 1968 nach&amp;hellip\
 ;
CATEGORIES:QBZ Morgenland
URL;VALUE=URI:https://kultur-vor-ort.com/veranstaltungen/bettina-bexte-hali
 me-in-allem-ein-stueck-zu-hause/?mc_id=6766
METHOD:PUBLISH
END:VEVENT
END:VCALENDAR