BEGIN:VCALENDAR
VERSION:2.0
PRODID:spatie/icalendar-generator
DESCRIPTION:Veranstaltungen von Kultur Vor Ort
X-WR-CALDESC:Veranstaltungen von Kultur Vor Ort
REFRESH-INTERVAL;VALUE=DURATION:PT1440M
X-PUBLISHED-TTL:PT1440M
BEGIN:VTIMEZONE
TZID:Europe/Berlin
BEGIN:DAYLIGHT
DTSTART:20260329T020000Z
TZOFFSETFROM:+0100
TZOFFSETTO:+0200
END:DAYLIGHT
BEGIN:STANDARD
DTSTART:20261025T030000Z
TZOFFSETFROM:+0200
TZOFFSETTO:+0100
END:STANDARD
BEGIN:DAYLIGHT
DTSTART:20270328T020000Z
TZOFFSETFROM:+0100
TZOFFSETTO:+0200
END:DAYLIGHT
END:VTIMEZONE
BEGIN:VTIMEZONE
TZID:UTC
BEGIN:STANDARD
DTSTART:20250727T095528Z
TZOFFSETFROM:+0000
TZOFFSETTO:+0000
END:STANDARD
END:VTIMEZONE
BEGIN:VEVENT
UID:6231-482
DTSTAMP:20260423T095528Z
SUMMARY:Tag der offenen Moschee
LOCATION:Gröpelingen Gröpelingen  Bremen  28237
ORGANIZER;CN=Admin:MAILTO:technik@raum-atelier.de
DTSTART;TZID=Europe/Berlin;VALUE=DATE:20261003
DTEND;TZID=Europe/Berlin;VALUE=DATE:20261004
X-ALT-DESC;FMTTYPE=TEXT/HTML:Der „Tag der offenen Moschee“ (TOM) findet
  seit 1997 immer am 03. Oktober bundesweit statt. Er wurde bewusst auf den
  „Tag der Deutschen Einheit“ gelegt\, um das religionsübergreifende Z
 iel zu betonen: Begegnung\, Verständnis und Dialog zwischen Menschen unte
 rschiedlicher Glaubensrichtungen. Jedes Jahr steht der TOM unter einem and
 eren Motto. Am 03. Oktober öffnen zahlreiche Moscheen in&amp;hellip\;
CATEGORIES:Feste
URL;VALUE=URI:https://kultur-vor-ort.com/veranstaltungen/tag-der-offenen-mo
 schee/
METHOD:PUBLISH
END:VEVENT
END:VCALENDAR