BEGIN:VCALENDAR
VERSION:2.0
PRODID:spatie/icalendar-generator
DESCRIPTION:Veranstaltungen von Kultur Vor Ort
X-WR-CALDESC:Veranstaltungen von Kultur Vor Ort
REFRESH-INTERVAL;VALUE=DURATION:PT1440M
X-PUBLISHED-TTL:PT1440M
BEGIN:VTIMEZONE
TZID:Europe/Berlin
BEGIN:DAYLIGHT
DTSTART:20260329T020000Z
TZOFFSETFROM:+0100
TZOFFSETTO:+0200
END:DAYLIGHT
BEGIN:STANDARD
DTSTART:20261025T030000Z
TZOFFSETFROM:+0200
TZOFFSETTO:+0100
END:STANDARD
BEGIN:DAYLIGHT
DTSTART:20270328T020000Z
TZOFFSETFROM:+0100
TZOFFSETTO:+0200
END:DAYLIGHT
END:VTIMEZONE
BEGIN:VTIMEZONE
TZID:UTC
BEGIN:STANDARD
DTSTART:20250727T095527Z
TZOFFSETFROM:+0000
TZOFFSETTO:+0000
END:STANDARD
END:VTIMEZONE
BEGIN:VEVENT
UID:6363-503
DTSTAMP:20260423T095527Z
SUMMARY:Ein Quartier im Erzählfieber
LOCATION:Torhaus Nord Liegnitzstraße 63  Bremen  28237
ORGANIZER;CN=Admin:MAILTO:technik@raum-atelier.de
RRULE:FREQ=WEEKLY;UNTIL=20261103T000000Z
DTSTART;TZID=Europe/Berlin:20260928T190000
DTEND;TZID=Europe/Berlin:20260928T210000
X-ALT-DESC;FMTTYPE=TEXT/HTML:Grundlagenkurs für neue und erfahrene Erzähl
 talente für das internationale Erzählfestival Feuerspuren (08.11.2026). 
 Der Workshop dient allen\, die sich als Erzähler:nnen ausprobieren wollen
 . Geübt werden das freie mündliche Erzählen\, der Einsatz von Mimik und
  Gestik und die Verwendung von mehreren Sprachen. Die Teilnehmer:innen b
 earbeiten eine selbstgewählte Geschichte passend zum Thema des Festivals 
 und bereiten sich auf ihren&amp;hellip\;
CATEGORIES:Feuerspuren
URL;VALUE=URI:https://kultur-vor-ort.com/veranstaltungen/ein-quartier-im-er
 zaehlfieber/?mc_id=6363
METHOD:PUBLISH
END:VEVENT
END:VCALENDAR