BEGIN:VCALENDAR
VERSION:2.0
PRODID:spatie/icalendar-generator
DESCRIPTION:Veranstaltungen von Kultur Vor Ort
X-WR-CALDESC:Veranstaltungen von Kultur Vor Ort
REFRESH-INTERVAL;VALUE=DURATION:PT1440M
X-PUBLISHED-TTL:PT1440M
BEGIN:VTIMEZONE
TZID:Europe/Berlin
BEGIN:DAYLIGHT
DTSTART:20260329T020000Z
TZOFFSETFROM:+0100
TZOFFSETTO:+0200
END:DAYLIGHT
BEGIN:STANDARD
DTSTART:20261025T030000Z
TZOFFSETFROM:+0200
TZOFFSETTO:+0100
END:STANDARD
BEGIN:DAYLIGHT
DTSTART:20270328T020000Z
TZOFFSETFROM:+0100
TZOFFSETTO:+0200
END:DAYLIGHT
END:VTIMEZONE
BEGIN:VTIMEZONE
TZID:UTC
BEGIN:STANDARD
DTSTART:20250727T095528Z
TZOFFSETFROM:+0000
TZOFFSETTO:+0000
END:STANDARD
END:VTIMEZONE
BEGIN:VEVENT
UID:6376-504
DTSTAMP:20260423T095528Z
SUMMARY:Ein Quartier im Erzählfieber (online)
LOCATION:
ORGANIZER;CN=Admin:MAILTO:technik@raum-atelier.de
RRULE:FREQ=WEEKLY;UNTIL=20261105T000000Z
DTSTART;TZID=Europe/Berlin:20261028T190000
DTEND;TZID=Europe/Berlin:20261028T210000
X-ALT-DESC;FMTTYPE=TEXT/HTML:Digitaler Grundlagenkurs für neue und erfahre
 ne Erzähltalente Im Online Kurs bereiten sich die Teilnehmer:innen auf di
 e Beteiligung am internationalen Erzählfestival Feuerspuren vor. Der Auft
 ritt am 08.11.2026 findet in Präsenz statt und die Anwesenheit am Festiva
 ltag ist Voraussetzung für die Teilnahme an der kostenfreien Einführung 
 ins freie Erzählen. Im Laufe der sieben Termine wird ein selbstgewählter
 &amp;hellip\;
CATEGORIES:Feuerspuren
URL;VALUE=URI:https://kultur-vor-ort.com/veranstaltungen/ein-quartier-im-er
 zaehlfieber-online/?mc_id=6376
METHOD:PUBLISH
END:VEVENT
END:VCALENDAR