BEGIN:VCALENDAR
VERSION:2.0
PRODID:spatie/icalendar-generator
DESCRIPTION:Veranstaltungen von Kultur Vor Ort
X-WR-CALDESC:Veranstaltungen von Kultur Vor Ort
REFRESH-INTERVAL;VALUE=DURATION:PT1440M
X-PUBLISHED-TTL:PT1440M
BEGIN:VTIMEZONE
TZID:Europe/Berlin
BEGIN:DAYLIGHT
DTSTART:20260329T020000Z
TZOFFSETFROM:+0100
TZOFFSETTO:+0200
END:DAYLIGHT
BEGIN:STANDARD
DTSTART:20261025T030000Z
TZOFFSETFROM:+0200
TZOFFSETTO:+0100
END:STANDARD
BEGIN:DAYLIGHT
DTSTART:20270328T020000Z
TZOFFSETFROM:+0100
TZOFFSETTO:+0200
END:DAYLIGHT
END:VTIMEZONE
BEGIN:VTIMEZONE
TZID:UTC
BEGIN:STANDARD
DTSTART:20250725T134940Z
TZOFFSETFROM:+0000
TZOFFSETTO:+0000
END:STANDARD
END:VTIMEZONE
BEGIN:VEVENT
UID:4031-350
DTSTAMP:20260421T134940Z
SUMMARY:Verkaufsoffener Sonntag Gröpelingen und Überseestadt
LOCATION:Gröpelingen Gröpelingen  Bremen  28237
ORGANIZER;CN=Admin:MAILTO:technik@raum-atelier.de
DTSTART;TZID=Europe/Berlin:20261108T130000
DTEND;TZID=Europe/Berlin:20261108T180000
X-ALT-DESC;FMTTYPE=TEXT/HTML:Bremen lädt zum Shoppen ein: In der Innenstad
 t\, den Stadtteilen\, in den Einkaufszentren Waterfront oder Weserpark fin
 den regelmäßig verkaufsoffene Sonntage (13 bis 18 Uhr) statt - immer in 
 Kombination mit einem Bremer Anlass. Dieser verkaufsoffene Sonntag findet 
 anlässlich des Internationalen Erzählfestival Feuerspuren statt. Er ist 
 begrenzt auf den Stadtteil Gröpelingen\, die Ortsteile Industriehäfen un
 d Überseestadt&amp;hellip\;
CATEGORIES:Sonstige,  Feuerspuren
URL;VALUE=URI:https://kultur-vor-ort.com/veranstaltungen/verkaufsoffener-so
 nntag-groepelingen-und-ueberseestadt-3/
METHOD:PUBLISH
END:VEVENT
END:VCALENDAR