BEGIN:VCALENDAR
VERSION:2.0
PRODID:spatie/icalendar-generator
DESCRIPTION:Veranstaltungen von Kultur Vor Ort
X-WR-CALDESC:Veranstaltungen von Kultur Vor Ort
REFRESH-INTERVAL;VALUE=DURATION:PT1440M
X-PUBLISHED-TTL:PT1440M
BEGIN:VTIMEZONE
TZID:Europe/Berlin
BEGIN:STANDARD
DTSTART:20251026T030000Z
TZOFFSETFROM:+0200
TZOFFSETTO:+0100
END:STANDARD
BEGIN:DAYLIGHT
DTSTART:20260329T020000Z
TZOFFSETFROM:+0100
TZOFFSETTO:+0200
END:DAYLIGHT
BEGIN:STANDARD
DTSTART:20261025T030000Z
TZOFFSETFROM:+0200
TZOFFSETTO:+0100
END:STANDARD
END:VTIMEZONE
BEGIN:VTIMEZONE
TZID:UTC
BEGIN:STANDARD
DTSTART:20250727T095529Z
TZOFFSETFROM:+0000
TZOFFSETTO:+0000
END:STANDARD
END:VTIMEZONE
BEGIN:VEVENT
UID:4032-351
DTSTAMP:20260423T095529Z
SUMMARY:Verkaufsoffener Sonntag Gröpelingen und Überseestadt
LOCATION:Gröpelingen Gröpelingen  Bremen  28237
ORGANIZER;CN=Admin:MAILTO:technik@raum-atelier.de
DTSTART;TZID=Europe/Berlin:20260607T130000
DTEND;TZID=Europe/Berlin:20260607T180000
X-ALT-DESC;FMTTYPE=TEXT/HTML:Bremen lädt zum Shoppen ein: In der Innenstad
 t\, den Stadtteilen\, in den Einkaufszentren Waterfront oder Weserpark fin
 den regelmäßig verkaufsoffene Sonntage (13 bis 18 Uhr) statt - immer in 
 Kombination mit einem Bremer Anlass. Dieser verkaufsoffene Sonntag findet 
 anlässlich des Oslebshauser Dorffest statt. Er ist begrenzt auf den Stadt
 teil Gröpelingen\, die Ortsteile Industriehäfen und Überseestadt sowie&amp;
 hellip\;
CATEGORIES:Sonstige
URL;VALUE=URI:https://kultur-vor-ort.com/veranstaltungen/verkaufsoffener-so
 nntag-groepelingen-und-ueberseestadt-4/
METHOD:PUBLISH
END:VEVENT
END:VCALENDAR