BEGIN:VCALENDAR
VERSION:2.0
PRODID:spatie/icalendar-generator
DESCRIPTION:Veranstaltungen von Kultur Vor Ort
X-WR-CALDESC:Veranstaltungen von Kultur Vor Ort
REFRESH-INTERVAL;VALUE=DURATION:PT1440M
X-PUBLISHED-TTL:PT1440M
BEGIN:VTIMEZONE
TZID:Europe/Berlin
BEGIN:STANDARD
DTSTART:20251026T030000Z
TZOFFSETFROM:+0200
TZOFFSETTO:+0100
END:STANDARD
BEGIN:DAYLIGHT
DTSTART:20260329T020000Z
TZOFFSETFROM:+0100
TZOFFSETTO:+0200
END:DAYLIGHT
BEGIN:STANDARD
DTSTART:20261025T030000Z
TZOFFSETFROM:+0200
TZOFFSETTO:+0100
END:STANDARD
END:VTIMEZONE
BEGIN:VTIMEZONE
TZID:UTC
BEGIN:STANDARD
DTSTART:20250727T095529Z
TZOFFSETFROM:+0000
TZOFFSETTO:+0000
END:STANDARD
END:VTIMEZONE
BEGIN:VEVENT
UID:5207-412
DTSTAMP:20260423T095529Z
SUMMARY:Erzählerisches Funkenschlagen
LOCATION:Torhaus Nord Liegnitzstraße 63  Bremen  28237
ORGANIZER;CN=Admin:MAILTO:technik@raum-atelier.de
DTSTART;TZID=Europe/Berlin:20260504T190000
DTEND;TZID=Europe/Berlin:20260504T211500
X-ALT-DESC;FMTTYPE=TEXT/HTML:Passend zum Frühlingsbeginn heißt es in Grö
 pelingen: Ohren auf! Denn am 16. März 2026 um 19:00 Uhr beginnen im Torha
 us Nord die Vorbereitungen für das Internationale Erzählfestival Feuersp
 uren am 08.11.2026. In Kooperation mit der VHS West lädt Kultur Vor Ort e
 .V. zum Funkenschlagen ein. An fünf kostenfreien Kursabenden werden bis z
 u den Sommerferien Ideen rund&amp;hellip\;
CATEGORIES:Feuerspuren
URL;VALUE=URI:https://kultur-vor-ort.com/veranstaltungen/erzaehlerisches-fu
 nkenschlagen-2/
METHOD:PUBLISH
END:VEVENT
END:VCALENDAR