BEGIN:VCALENDAR
VERSION:2.0
PRODID:spatie/icalendar-generator
DESCRIPTION:Veranstaltungen von Kultur Vor Ort
X-WR-CALDESC:Veranstaltungen von Kultur Vor Ort
REFRESH-INTERVAL;VALUE=DURATION:PT1440M
X-PUBLISHED-TTL:PT1440M
BEGIN:VTIMEZONE
TZID:Europe/Berlin
BEGIN:DAYLIGHT
DTSTART:20260329T020000Z
TZOFFSETFROM:+0100
TZOFFSETTO:+0200
END:DAYLIGHT
BEGIN:STANDARD
DTSTART:20261025T030000Z
TZOFFSETFROM:+0200
TZOFFSETTO:+0100
END:STANDARD
BEGIN:DAYLIGHT
DTSTART:20270328T020000Z
TZOFFSETFROM:+0100
TZOFFSETTO:+0200
END:DAYLIGHT
END:VTIMEZONE
BEGIN:VTIMEZONE
TZID:UTC
BEGIN:STANDARD
DTSTART:20250727T095529Z
TZOFFSETFROM:+0000
TZOFFSETTO:+0000
END:STANDARD
END:VTIMEZONE
BEGIN:VEVENT
UID:5211-413
DTSTAMP:20260423T095529Z
SUMMARY:Internationales Erzählfestival Feuerspuren
LOCATION:Lindenhofstraße Lindenhofstraße  Bremen  28237
ORGANIZER;CN=Admin:MAILTO:technik@raum-atelier.de
DTSTART;TZID=Europe/Berlin:20261108T143000
DTEND;TZID=Europe/Berlin:20261108T200000
X-ALT-DESC;FMTTYPE=TEXT/HTML:Am zweiten Sonntag im November verwandelt sich
  die zentrale Achse Gröpelingens – die Lindenhofstraße – zur Bühne 
 für das alljährlich stattfindende Festival der mehrsprachigen Erzählkun
 st. An über 20 Orten können kleine und große Besucher:innen mehr als ei
 nhundert Erzähler:innen erleben. Bei freiem Eintritt gibt es einmalige er
 zählerische Darbietungen in ungewöhnlichen Locations: im Waschsalon\, im
  Nagelstudio\, im&amp;hellip\;
CATEGORIES:Feuerspuren,  Feste
URL;VALUE=URI:https://kultur-vor-ort.com/veranstaltungen/internationales-er
 zaehlfestival-feuerspuren-2/
METHOD:PUBLISH
END:VEVENT
END:VCALENDAR