BEGIN:VCALENDAR
VERSION:2.0
PRODID:spatie/icalendar-generator
DESCRIPTION:Veranstaltungen von Kultur Vor Ort
X-WR-CALDESC:Veranstaltungen von Kultur Vor Ort
REFRESH-INTERVAL;VALUE=DURATION:PT1440M
X-PUBLISHED-TTL:PT1440M
BEGIN:VTIMEZONE
TZID:Europe/Berlin
BEGIN:DAYLIGHT
DTSTART:20260329T020000Z
TZOFFSETFROM:+0100
TZOFFSETTO:+0200
END:DAYLIGHT
BEGIN:STANDARD
DTSTART:20261025T030000Z
TZOFFSETFROM:+0200
TZOFFSETTO:+0100
END:STANDARD
BEGIN:DAYLIGHT
DTSTART:20270328T020000Z
TZOFFSETFROM:+0100
TZOFFSETTO:+0200
END:DAYLIGHT
END:VTIMEZONE
BEGIN:VTIMEZONE
TZID:UTC
BEGIN:STANDARD
DTSTART:20250725T150031Z
TZOFFSETFROM:+0000
TZOFFSETTO:+0000
END:STANDARD
END:VTIMEZONE
BEGIN:VEVENT
UID:5212-414
DTSTAMP:20260421T150031Z
SUMMARY:Die Lange Nacht des Erzählens
LOCATION:Bürgerhaus Oslebshausen Am Nonnenberg 40  Bremen  28239
ORGANIZER;CN=Admin:MAILTO:technik@raum-atelier.de
DTSTART;TZID=Europe/Berlin:20261107T190000
DTEND;TZID=Europe/Berlin:20261107T220000
X-ALT-DESC;FMTTYPE=TEXT/HTML:Am Samstagabend  eröffnet das internationale
  Erzählfestival Feuerspuren mit der Langen Nacht des Erzählens im Bürge
 rhaus Oslebshausen. Das Erzählfestival FEUERSPUREN ist eine Veranstaltung
  von Kultur Vor Ort e.V. und dem Bürgerhaus Oslebshausen e.V. FEUERSPUREN
  wird unterstützt von: Senator für Kultur Bremen\, Senatorin für Wirtsc
 haft\, Häfen und Transformation Bremen\, Senator für Kinder und Bildung 
 Bremen\, Senatorin für&amp;hellip\;
CATEGORIES:Feuerspuren
URL;VALUE=URI:https://kultur-vor-ort.com/veranstaltungen/die-lange-nacht-de
 s-erzaehlens/
METHOD:PUBLISH
END:VEVENT
END:VCALENDAR