BEGIN:VCALENDAR
VERSION:2.0
PRODID:spatie/icalendar-generator
DESCRIPTION:Veranstaltungen von Kultur Vor Ort
X-WR-CALDESC:Veranstaltungen von Kultur Vor Ort
REFRESH-INTERVAL;VALUE=DURATION:PT1440M
X-PUBLISHED-TTL:PT1440M
BEGIN:VTIMEZONE
TZID:Europe/Berlin
BEGIN:STANDARD
DTSTART:20251026T030000Z
TZOFFSETFROM:+0200
TZOFFSETTO:+0100
END:STANDARD
BEGIN:DAYLIGHT
DTSTART:20260329T020000Z
TZOFFSETFROM:+0100
TZOFFSETTO:+0200
END:DAYLIGHT
BEGIN:STANDARD
DTSTART:20261025T030000Z
TZOFFSETFROM:+0200
TZOFFSETTO:+0100
END:STANDARD
END:VTIMEZONE
BEGIN:VTIMEZONE
TZID:UTC
BEGIN:STANDARD
DTSTART:20250725T134940Z
TZOFFSETFROM:+0000
TZOFFSETTO:+0000
END:STANDARD
END:VTIMEZONE
BEGIN:VEVENT
UID:5510-354
DTSTAMP:20260421T134940Z
SUMMARY:Aufsuchende Bildungsberatung Gröpelingen
LOCATION:QBZ Morgenland Morgenlandstraße 43  Bremen Bremen 28237
ORGANIZER;CN=Admin:MAILTO:technik@raum-atelier.de
RRULE:FREQ=WEEKLY;UNTIL=20261226T000000Z
DTSTART;TZID=Europe/Berlin:20260423T100000
DTEND;TZID=Europe/Berlin:20260423T120000
X-ALT-DESC;FMTTYPE=TEXT/HTML:Die Aufsuchende Bildungsberatung unterstützt 
 erwachsene Gröpelinger:innen mit kostenfreier\, vertraulicher und träger
 neutraler Beratung. Sie begleitet Bildungsprozesse\, hilft bei der Vermitt
 lung in Sprachkurse\, der Anerkennung ausländischer Abschlüsse\, sowie r
 und um die Themen Weiterbildung\, Qualifizierung\, Umschulung und Arbeitsm
 arktintegration. Das mehrsprachige Team berät in den Sprachen Arabisch\, 
 Türkisch\, Ukrainisch\, Russisch\, Englisch\, Französisch und Deutsch. K
 ommen Sie einfach zu den&amp;hellip\;
CATEGORIES:Aufsuchende Bildungsberatung,  QBZ Morgenland
URL;VALUE=URI:https://kultur-vor-ort.com/veranstaltungen/aufsuchende-bildun
 gsberatung-groepelingen-3/?mc_id=5510
METHOD:PUBLISH
END:VEVENT
END:VCALENDAR