BEGIN:VCALENDAR
VERSION:2.0
PRODID:spatie/icalendar-generator
DESCRIPTION:Veranstaltungen von Kultur Vor Ort
X-WR-CALDESC:Veranstaltungen von Kultur Vor Ort
REFRESH-INTERVAL;VALUE=DURATION:PT1440M
X-PUBLISHED-TTL:PT1440M
BEGIN:VTIMEZONE
TZID:Europe/Berlin
BEGIN:STANDARD
DTSTART:20251026T030000Z
TZOFFSETFROM:+0200
TZOFFSETTO:+0100
END:STANDARD
BEGIN:DAYLIGHT
DTSTART:20260329T020000Z
TZOFFSETFROM:+0100
TZOFFSETTO:+0200
END:DAYLIGHT
END:VTIMEZONE
BEGIN:VTIMEZONE
TZID:UTC
BEGIN:STANDARD
DTSTART:20250726T123912Z
TZOFFSETFROM:+0000
TZOFFSETTO:+0000
END:STANDARD
END:VTIMEZONE
BEGIN:VEVENT
UID:5612-356
DTSTAMP:20260422T123912Z
SUMMARY:Aufsuchende Bildungsberatung Überseestadt
LOCATION:Quartierstreff Jetzt Hier Konsul-Smidt-Straße 38  Bremen  28217
ORGANIZER;CN=Admin:MAILTO:technik@raum-atelier.de
RRULE:FREQ=WEEKLY;UNTIL=20261226T000000Z
DTSTART;TZID=Europe/Berlin:20260422T140000
DTEND;TZID=Europe/Berlin:20260422T160000
X-ALT-DESC;FMTTYPE=TEXT/HTML:Die Aufsuchende Bildungsberatung unterstützt 
 erwachsene Gröpelinger:innen mit kostenfreier\, vertraulicher und träger
 neutraler Beratung. Sie begleitet Bildungsprozesse\, hilft bei der Vermitt
 lung in Sprachkurse\, der Anerkennung ausländischer Abschlüsse\, sowie r
 und um die Themen Weiterbildung\, Qualifizierung\, Umschulung und Arbeitsm
 arktintegration. Das mehrsprachige Team berät in den Sprachen Arabisch\, 
 Türkisch\, Ukrainisch\, Russisch\, Englisch\, Französisch und Deutsch. K
 ommen Sie einfach zu den&amp;hellip\;
CATEGORIES:Aufsuchende Bildungsberatung,  Quartierstreff Jetzt hier
URL;VALUE=URI:https://kultur-vor-ort.com/veranstaltungen/aufsuchende-bildun
 gsberatung-ueberseestadt-2/?mc_id=5612
METHOD:PUBLISH
END:VEVENT
END:VCALENDAR