BEGIN:VCALENDAR
VERSION:2.0
PRODID:spatie/icalendar-generator
DESCRIPTION:Veranstaltungen von Kultur Vor Ort
X-WR-CALDESC:Veranstaltungen von Kultur Vor Ort
REFRESH-INTERVAL;VALUE=DURATION:PT1440M
X-PUBLISHED-TTL:PT1440M
BEGIN:VTIMEZONE
TZID:Europe/Berlin
BEGIN:STANDARD
DTSTART:20251026T030000Z
TZOFFSETFROM:+0200
TZOFFSETTO:+0100
END:STANDARD
BEGIN:DAYLIGHT
DTSTART:20260329T020000Z
TZOFFSETFROM:+0100
TZOFFSETTO:+0200
END:DAYLIGHT
BEGIN:STANDARD
DTSTART:20261025T030000Z
TZOFFSETFROM:+0200
TZOFFSETTO:+0100
END:STANDARD
END:VTIMEZONE
BEGIN:VTIMEZONE
TZID:UTC
BEGIN:STANDARD
DTSTART:20250727T095529Z
TZOFFSETFROM:+0000
TZOFFSETTO:+0000
END:STANDARD
END:VTIMEZONE
BEGIN:VEVENT
UID:6119-357
DTSTAMP:20260423T095529Z
SUMMARY:Mobiles Atelier Überseestadt
LOCATION:Überseewiese Konsul-Smidt-Straße  Bremen  28217
ORGANIZER;CN=Admin:MAILTO:technik@raum-atelier.de
RRULE:FREQ=WEEKLY;UNTIL=20260630T000000Z
DTSTART;TZID=Europe/Berlin:20260427T160000
DTEND;TZID=Europe/Berlin:20260427T180000
X-ALT-DESC;FMTTYPE=TEXT/HTML:Wenn das Mobile Atelier kommt\, wird die Stra
 ße zum Arbeitsplatz für kleine und große Künstler:innen. Ob Bilder an 
 Staffeleien\, ganze Landschaften aus Ton oder Skulpturen aus Holz entstehe
 n – draußen kann man mit den unterschiedlichen Materialien am besten ex
 perimentieren. Wer Lust hat dabei zu sein\, kann zu den festen Zeiten vorb
 eikommen und mitmachen. Ein Angebot&amp;hellip\;
CATEGORIES:Mobiles Atelier,  Quartierstreff Jetzt hier
URL;VALUE=URI:https://kultur-vor-ort.com/veranstaltungen/mobiles-atelier-ue
 berseestadt/?mc_id=6119
METHOD:PUBLISH
END:VEVENT
END:VCALENDAR