BEGIN:VCALENDAR
VERSION:2.0
PRODID:spatie/icalendar-generator
DESCRIPTION:Veranstaltungen von Kultur Vor Ort
X-WR-CALDESC:Veranstaltungen von Kultur Vor Ort
REFRESH-INTERVAL;VALUE=DURATION:PT1440M
X-PUBLISHED-TTL:PT1440M
BEGIN:VTIMEZONE
TZID:Europe/Berlin
BEGIN:STANDARD
DTSTART:20251026T030000Z
TZOFFSETFROM:+0200
TZOFFSETTO:+0100
END:STANDARD
BEGIN:DAYLIGHT
DTSTART:20260329T020000Z
TZOFFSETFROM:+0100
TZOFFSETTO:+0200
END:DAYLIGHT
END:VTIMEZONE
BEGIN:VTIMEZONE
TZID:UTC
BEGIN:STANDARD
DTSTART:20250725T150031Z
TZOFFSETFROM:+0000
TZOFFSETTO:+0000
END:STANDARD
END:VTIMEZONE
BEGIN:VEVENT
UID:6248-485
DTSTAMP:20260421T150031Z
SUMMARY:Weserfähre Bremen
LOCATION:Pier 2 Gröpelinger Fährweg 6  Bremen  28237
ORGANIZER;CN=Admin:MAILTO:technik@raum-atelier.de
RRULE:FREQ=WEEKLY;UNTIL=20260927T000000Z
DTSTART;TZID=Europe/Berlin:20260418T120000
DTEND;TZID=Europe/Berlin:20260418T210000
X-ALT-DESC;FMTTYPE=TEXT/HTML:Vom 03. April bis einschließlich 04. Oktober 
 2026 verbindet die Saisonale Weserfähre Bremen samstags\, sonn- und feier
 tags die Stadtteile über die Weser. Im Juli und August in der Hochsaison 
 der Festivals und Outdoorevents in den anliegenden Stadtteilen lädt sie a
 uch freitags zur Überfahrt ein. Die Abfahrten erfolgen im 30-Minuten-Takt
  ab den Anlegern Pier 2/Waterfront\, Molenturm&amp;hellip\;
CATEGORIES:Weserfähre
URL;VALUE=URI:https://kultur-vor-ort.com/veranstaltungen/weserfaehre-bremen
 -11/?mc_id=6248
METHOD:PUBLISH
END:VEVENT
END:VCALENDAR