BEGIN:VCALENDAR
VERSION:2.0
PRODID:spatie/icalendar-generator
DESCRIPTION:Veranstaltungen von Kultur Vor Ort
X-WR-CALDESC:Veranstaltungen von Kultur Vor Ort
REFRESH-INTERVAL;VALUE=DURATION:PT1440M
X-PUBLISHED-TTL:PT1440M
BEGIN:VTIMEZONE
TZID:Europe/Berlin
BEGIN:DAYLIGHT
DTSTART:20260329T020000Z
TZOFFSETFROM:+0100
TZOFFSETTO:+0200
END:DAYLIGHT
BEGIN:STANDARD
DTSTART:20261025T030000Z
TZOFFSETFROM:+0200
TZOFFSETTO:+0100
END:STANDARD
END:VTIMEZONE
BEGIN:VTIMEZONE
TZID:UTC
BEGIN:STANDARD
DTSTART:20250727T095529Z
TZOFFSETFROM:+0000
TZOFFSETTO:+0000
END:STANDARD
END:VTIMEZONE
BEGIN:VEVENT
UID:6716-547
DTSTAMP:20260423T095529Z
SUMMARY:Gefaltetes Papier und bunte Worte
LOCATION:QBZ Morgenland Morgenlandstraße 43  Bremen Bremen 28237
ORGANIZER;CN=Admin:MAILTO:technik@raum-atelier.de
DTSTART;TZID=Europe/Berlin:20260910T143000
DTEND;TZID=Europe/Berlin:20260910T160000
X-ALT-DESC;FMTTYPE=TEXT/HTML:Im Kurzworkshop erhalten Pädagog:innen die An
 leitung für eine Erzählaktion\, die sich mit Kindern ab 5 Jahren umsetze
 n lässt. Ein Blatt\, ein Stift und Variationen einer Geschichte\, die dur
 ch den Stadtteil wandert. Eine Veranstaltung von Kultur Vor Ort. Termin: 1
 0.09.2026\, 14:30 - 16:00 Uhr\, QBZ Morgenland\, Morgenlandstraße 43 Anme
 ldung bis 04.09.: klein@kultur-vor-ort.com Unser Tipp: Cassandra Projekt&amp;h
 ellip\;
CATEGORIES:Feuerspuren,  QBZ Morgenland
URL;VALUE=URI:https://kultur-vor-ort.com/veranstaltungen/gefaltetes-papier-
 und-bunte-worte/
METHOD:PUBLISH
END:VEVENT
END:VCALENDAR