BEGIN:VCALENDAR
VERSION:2.0
PRODID:spatie/icalendar-generator
DESCRIPTION:Veranstaltungen von Kultur Vor Ort
X-WR-CALDESC:Veranstaltungen von Kultur Vor Ort
REFRESH-INTERVAL;VALUE=DURATION:PT1440M
X-PUBLISHED-TTL:PT1440M
BEGIN:VTIMEZONE
TZID:Europe/Berlin
BEGIN:DAYLIGHT
DTSTART:20260329T020000Z
TZOFFSETFROM:+0100
TZOFFSETTO:+0200
END:DAYLIGHT
BEGIN:STANDARD
DTSTART:20261025T030000Z
TZOFFSETFROM:+0200
TZOFFSETTO:+0100
END:STANDARD
END:VTIMEZONE
BEGIN:VTIMEZONE
TZID:UTC
BEGIN:STANDARD
DTSTART:20250727T095529Z
TZOFFSETFROM:+0000
TZOFFSETTO:+0000
END:STANDARD
END:VTIMEZONE
BEGIN:VEVENT
UID:6754-594
DTSTAMP:20260423T095529Z
SUMMARY:GröpelBarock: Improviso: ein barockes Sommerfest
LOCATION:Emmauskirche Adelenstraße 68  Bremen  28239
ORGANIZER;CN=Admin:MAILTO:technik@raum-atelier.de
DTSTART;TZID=Europe/Berlin:20260726T160000
DTEND;TZID=Europe/Berlin:20260726T170000
X-ALT-DESC;FMTTYPE=TEXT/HTML:Davide Monti - Violine und Leitung Julia Krik
 kay - Violine Barbara Hartrumpf - Violoncello Hugo de Rodas Sanchez -
  Lauteninstrumente Mitglieder des Streichorchesters Laudate\, Cantate un
 d weitere Workshopteilnehmer:innen Der italienische Geiger und Davide Mon
 ti ist ein wahres Improvisationstalent und Energiebündel. So gründete 
 und leitet er das internationale Netzwerk für Improvisationslehre Helico
 na\, das auch Elemente aus Theater\, Tanz und Rhetorik einbezieht. Monti
  sieht die Improvisation als zentrales Element des musikalischen&amp;hellip\;
CATEGORIES:ApfelKulturParadies
URL;VALUE=URI:https://kultur-vor-ort.com/veranstaltungen/groepelbarock-impr
 oviso-ein-barockes-sommerfest/
METHOD:PUBLISH
END:VEVENT
END:VCALENDAR